Package: monocle Version: 2.20.0 Command: /Library/Frameworks/R.framework/Versions/Current/Resources/bin/R CMD INSTALL monocle StartedAt: 2021-10-14 09:30:11 -0400 (Thu, 14 Oct 2021) EndedAt: 2021-10-14 09:31:09 -0400 (Thu, 14 Oct 2021) EllapsedTime: 58.7 seconds RetCode: 0 Status: OK