git_url: https://git.bioconductor.org/packages/motifStack git_branch: RELEASE_3_13 git_last_commit: c7c163b git_last_commit_date: 2021-09-30 08:17:22 -0400 (Thu, 30 Sep 2021) Package: motifStack Version: 1.36.1 Maintainer: Jianhong Ou MaintainerEmail: jianhong.ou at duke.edu