Package: motifStack Version: 1.36.1 Command: rm -rf motifStack.buildbin-libdir && mkdir motifStack.buildbin-libdir && /Users/biocbuild/BBS/utils/build-universal.sh motifStack_1.36.1.tar.gz /Library/Frameworks/R.framework/Versions/Current/Resources/bin/R motifStack.buildbin-libdir StartedAt: 2021-10-15 03:11:03 -0400 (Fri, 15 Oct 2021) EndedAt: 2021-10-15 03:12:01 -0400 (Fri, 15 Oct 2021) EllapsedTime: 58.8 seconds RetCode: 0 Status: OK PackageFile: motifStack_1.36.1.tgz PackageFileSize: 2.427 MiB