Package: motifbreakR Version: 2.6.1 Command: /Library/Frameworks/R.framework/Versions/Current/Resources/bin/R CMD INSTALL motifbreakR StartedAt: 2021-10-14 10:12:39 -0400 (Thu, 14 Oct 2021) EndedAt: 2021-10-14 10:13:51 -0400 (Thu, 14 Oct 2021) EllapsedTime: 71.4 seconds RetCode: 0 Status: OK