Package: motifbreakR Version: 2.6.1 Command: /home/biocbuild/bbs-3.13-bioc/R/bin/R CMD build --keep-empty-dirs --no-resave-data motifbreakR StartedAt: 2021-10-14 07:47:14 -0400 (Thu, 14 Oct 2021) EndedAt: 2021-10-14 07:50:45 -0400 (Thu, 14 Oct 2021) EllapsedTime: 211.0 seconds RetCode: 0 Status: OK PackageFile: motifbreakR_2.6.1.tar.gz PackageFileSize: 2.26 MiB