Package: motifbreakR Version: 2.6.1 Command: /home/biocbuild/bbs-3.13-bioc/R/bin/R CMD INSTALL motifbreakR StartedAt: 2021-10-14 06:31:46 -0400 (Thu, 14 Oct 2021) EndedAt: 2021-10-14 06:32:37 -0400 (Thu, 14 Oct 2021) EllapsedTime: 51.7 seconds RetCode: 0 Status: OK