Package: motifbreakR Version: 2.6.1 Command: chmod a+r motifbreakR -R && C:\Users\biocbuild\bbs-3.13-bioc\R\bin\R.exe CMD build --keep-empty-dirs --no-resave-data motifbreakR StartedAt: 2021-10-14 15:52:03 -0400 (Thu, 14 Oct 2021) EndedAt: 2021-10-14 15:56:47 -0400 (Thu, 14 Oct 2021) EllapsedTime: 283.7 seconds RetCode: 0 Status: OK PackageFile: motifbreakR_2.6.1.tar.gz PackageFileSize: 2.192 MiB