Package: msImpute Version: 1.2.0 Command: rm -rf msImpute.buildbin-libdir && mkdir msImpute.buildbin-libdir && /Users/biocbuild/BBS/utils/build-universal.sh msImpute_1.2.0.tar.gz /Library/Frameworks/R.framework/Versions/Current/Resources/bin/R msImpute.buildbin-libdir StartedAt: 2021-10-15 03:12:12 -0400 (Fri, 15 Oct 2021) EndedAt: 2021-10-15 03:13:16 -0400 (Fri, 15 Oct 2021) EllapsedTime: 63.4 seconds RetCode: 0 Status: OK PackageFile: msImpute_1.2.0.tgz PackageFileSize: 2.105 MiB