Package: msImpute Version: 1.2.0 Command: /home/biocbuild/bbs-3.13-bioc/R/bin/R CMD check --install=check:msImpute.install-out.txt --library=/home/biocbuild/bbs-3.13-bioc/R/library --no-vignettes --timings msImpute_1.2.0.tar.gz StartedAt: 2021-10-14 10:43:16 -0400 (Thu, 14 Oct 2021) EndedAt: 2021-10-14 10:45:44 -0400 (Thu, 14 Oct 2021) EllapsedTime: 147.5 seconds RetCode: 0 Status: OK CheckDir: msImpute.Rcheck Warnings: 0