Package: msImpute Version: 1.2.0 Command: rm -rf msImpute.buildbin-libdir && mkdir msImpute.buildbin-libdir && C:\Users\biocbuild\bbs-3.13-bioc\R\bin\R.exe CMD INSTALL --merge-multiarch --build --library=msImpute.buildbin-libdir msImpute_1.2.0.tar.gz StartedAt: 2021-10-15 10:33:26 -0400 (Fri, 15 Oct 2021) EndedAt: 2021-10-15 10:34:52 -0400 (Fri, 15 Oct 2021) EllapsedTime: 86.3 seconds RetCode: 0 Status: OK PackageFile: msImpute_1.2.0.zip PackageFileSize: 2.003 MiB