Package: multicrispr Version: 1.2.0 Command: chmod a+r multicrispr -R && C:\Users\biocbuild\bbs-3.13-bioc\R\bin\R.exe CMD build --keep-empty-dirs --no-resave-data multicrispr StartedAt: 2021-10-14 16:00:35 -0400 (Thu, 14 Oct 2021) EndedAt: 2021-10-14 16:04:05 -0400 (Thu, 14 Oct 2021) EllapsedTime: 210.1 seconds RetCode: 0 Status: OK PackageFile: multicrispr_1.2.0.tar.gz PackageFileSize: 1.947 MiB