Package: mzID Version: 1.30.0 Command: /home/biocbuild/bbs-3.13-bioc/R/bin/R CMD build --keep-empty-dirs --no-resave-data mzID StartedAt: 2021-10-14 07:49:58 -0400 (Thu, 14 Oct 2021) EndedAt: 2021-10-14 07:50:05 -0400 (Thu, 14 Oct 2021) EllapsedTime: 7.0 seconds RetCode: 0 Status: OK PackageFile: mzID_1.30.0.tar.gz PackageFileSize: 573.1 KiB