Package: nanotatoR Version: 1.8.0 Command: /home/biocbuild/bbs-3.13-bioc/R/bin/R CMD build --keep-empty-dirs --no-resave-data nanotatoR StartedAt: 2021-10-14 07:50:16 -0400 (Thu, 14 Oct 2021) EndedAt: 2021-10-14 07:51:01 -0400 (Thu, 14 Oct 2021) EllapsedTime: 45.1 seconds RetCode: 1 Status: ERROR PackageFile: None PackageFileSize: NA