Package: nanotatoR Version: 1.8.0 Command: C:\cygwin\bin\curl.exe -O http://155.52.207.165/BBS/3.13/bioc/src/contrib/nanotatoR_1.8.0.tar.gz && rm -rf nanotatoR.buildbin-libdir && mkdir nanotatoR.buildbin-libdir && C:\Users\biocbuild\bbs-3.13-bioc\R\bin\R.exe CMD INSTALL --merge-multiarch --build --library=nanotatoR.buildbin-libdir nanotatoR_1.8.0.tar.gz && C:\Users\biocbuild\bbs-3.13-bioc\R\bin\R.exe CMD INSTALL nanotatoR_1.8.0.zip && rm nanotatoR_1.8.0.tar.gz nanotatoR_1.8.0.zip StartedAt: 2021-10-14 10:13:22 -0400 (Thu, 14 Oct 2021) EndedAt: 2021-10-14 10:14:21 -0400 (Thu, 14 Oct 2021) EllapsedTime: 58.9 seconds RetCode: 0 Status: OK