Package: ncGTW Version: 1.6.0 Command: rm -rf ncGTW.buildbin-libdir && mkdir ncGTW.buildbin-libdir && C:\Users\biocbuild\bbs-3.13-bioc\R\bin\R.exe CMD INSTALL --merge-multiarch --build --library=ncGTW.buildbin-libdir ncGTW_1.6.0.tar.gz StartedAt: 2021-10-15 10:40:19 -0400 (Fri, 15 Oct 2021) EndedAt: 2021-10-15 10:42:34 -0400 (Fri, 15 Oct 2021) EllapsedTime: 134.1 seconds RetCode: 0 Status: OK PackageFile: ncGTW_1.6.0.zip PackageFileSize: 2.092 MiB