Package: ncGTW Version: 1.6.0 Command: C:\Users\biocbuild\bbs-3.13-bioc\R\bin\R.exe CMD check --force-multiarch --install=check:ncGTW.install-out.txt --library=C:\Users\biocbuild\bbs-3.13-bioc\R\library --no-vignettes --timings ncGTW_1.6.0.tar.gz StartedAt: 2021-10-15 02:39:18 -0400 (Fri, 15 Oct 2021) EndedAt: 2021-10-15 02:49:08 -0400 (Fri, 15 Oct 2021) EllapsedTime: 590.1 seconds RetCode: 0 Status: OK CheckDir: ncGTW.Rcheck Warnings: 0