Package: nearBynding Version: 1.2.0 Command: /home/biocbuild/bbs-3.13-bioc/R/bin/R CMD check --install=check:nearBynding.install-out.txt --library=/home/biocbuild/bbs-3.13-bioc/R/library --no-vignettes --timings nearBynding_1.2.0.tar.gz StartedAt: 2021-10-14 10:47:26 -0400 (Thu, 14 Oct 2021) EndedAt: 2021-10-14 10:51:48 -0400 (Thu, 14 Oct 2021) EllapsedTime: 261.5 seconds RetCode: 0 Status: OK CheckDir: nearBynding.Rcheck Warnings: 0