git_url: https://git.bioconductor.org/packages/normalize450K git_branch: RELEASE_3_13 git_last_commit: 58b8a2c git_last_commit_date: 2021-05-19 12:16:59 -0400 (Wed, 19 May 2021) Package: normalize450K Version: 1.20.0 Maintainer: Jonathan Alexander Heiss MaintainerEmail: jonathan.heiss at posteo.de