Package: normalize450K Version: 1.20.0 Command: rm -rf normalize450K.buildbin-libdir && mkdir normalize450K.buildbin-libdir && /Users/biocbuild/BBS/utils/build-universal.sh normalize450K_1.20.0.tar.gz /Library/Frameworks/R.framework/Versions/Current/Resources/bin/R normalize450K.buildbin-libdir StartedAt: 2021-10-15 03:18:47 -0400 (Fri, 15 Oct 2021) EndedAt: 2021-10-15 03:19:52 -0400 (Fri, 15 Oct 2021) EllapsedTime: 64.4 seconds RetCode: 0 Status: OK PackageFile: normalize450K_1.20.0.tgz PackageFileSize: 3.066 MiB