Package: normalize450K Version: 1.20.0 Command: /Library/Frameworks/R.framework/Versions/Current/Resources/bin/R CMD INSTALL normalize450K StartedAt: 2021-10-14 08:28:38 -0400 (Thu, 14 Oct 2021) EndedAt: 2021-10-14 08:29:26 -0400 (Thu, 14 Oct 2021) EllapsedTime: 48.0 seconds RetCode: 0 Status: OK