Package: normr Version: 1.18.1 Command: rm -rf normr.buildbin-libdir && mkdir normr.buildbin-libdir && /Users/biocbuild/BBS/utils/build-universal.sh normr_1.18.1.tar.gz /Library/Frameworks/R.framework/Versions/Current/Resources/bin/R normr.buildbin-libdir StartedAt: 2021-10-15 03:19:04 -0400 (Fri, 15 Oct 2021) EndedAt: 2021-10-15 03:20:08 -0400 (Fri, 15 Oct 2021) EllapsedTime: 64.6 seconds RetCode: 0 Status: OK PackageFile: normr_1.18.1.tgz PackageFileSize: 4.077 MiB