Package: normr Version: 1.18.1 Command: /Library/Frameworks/R.framework/Versions/Current/Resources/bin/R CMD build --keep-empty-dirs --no-resave-data normr StartedAt: 2021-10-14 13:35:54 -0400 (Thu, 14 Oct 2021) EndedAt: 2021-10-14 13:37:34 -0400 (Thu, 14 Oct 2021) EllapsedTime: 99.9 seconds RetCode: 0 Status: OK PackageFile: normr_1.18.1.tar.gz PackageFileSize: 3.651 MiB