Package: normr Version: 1.18.1 Command: /Library/Frameworks/R.framework/Versions/Current/Resources/bin/R CMD check --install=check:normr.install-out.txt --library=/Library/Frameworks/R.framework/Versions/Current/Resources/library --no-vignettes --timings normr_1.18.1.tar.gz StartedAt: 2021-10-14 21:48:42 -0400 (Thu, 14 Oct 2021) EndedAt: 2021-10-14 21:54:16 -0400 (Thu, 14 Oct 2021) EllapsedTime: 334.0 seconds RetCode: 0 Status: OK CheckDir: normr.Rcheck Warnings: 0