Package: normr Version: 1.18.1 Command: /home/biocbuild/bbs-3.13-bioc/R/bin/R CMD build --keep-empty-dirs --no-resave-data normr StartedAt: 2021-10-14 07:51:48 -0400 (Thu, 14 Oct 2021) EndedAt: 2021-10-14 07:53:02 -0400 (Thu, 14 Oct 2021) EllapsedTime: 74.4 seconds RetCode: 0 Status: OK PackageFile: normr_1.18.1.tar.gz PackageFileSize: 3.654 MiB