Package: normr Version: 1.18.1 Command: /home/biocbuild/bbs-3.13-bioc/R/bin/R CMD INSTALL normr StartedAt: 2021-10-14 06:22:35 -0400 (Thu, 14 Oct 2021) EndedAt: 2021-10-14 06:23:18 -0400 (Thu, 14 Oct 2021) EllapsedTime: 42.9 seconds RetCode: 0 Status: OK