git_url: https://git.bioconductor.org/packages/odseq git_branch: RELEASE_3_13 git_last_commit: a873deb git_last_commit_date: 2021-05-19 12:19:37 -0400 (Wed, 19 May 2021) Package: odseq Version: 1.20.0 Maintainer: José Jiménez MaintainerEmail: jose at jimenezluna.com