Package: odseq Version: 1.20.0 Command: /Library/Frameworks/R.framework/Versions/Current/Resources/bin/R CMD build --keep-empty-dirs --no-resave-data odseq StartedAt: 2021-10-14 13:37:11 -0400 (Thu, 14 Oct 2021) EndedAt: 2021-10-14 13:37:50 -0400 (Thu, 14 Oct 2021) EllapsedTime: 38.9 seconds RetCode: 0 Status: OK PackageFile: odseq_1.20.0.tar.gz PackageFileSize: 225.8 KiB