Package: odseq Version: 1.20.0 Command: chmod a+r odseq -R && C:\Users\biocbuild\bbs-3.13-bioc\R\bin\R.exe CMD build --keep-empty-dirs --no-resave-data odseq StartedAt: 2021-10-14 16:12:38 -0400 (Thu, 14 Oct 2021) EndedAt: 2021-10-14 16:13:31 -0400 (Thu, 14 Oct 2021) EllapsedTime: 52.6 seconds RetCode: 0 Status: OK PackageFile: odseq_1.20.0.tar.gz PackageFileSize: 226.5 KiB