Package: oligo Version: 1.56.0 Command: /home/biocbuild/bbs-3.13-bioc/R/bin/R CMD build --keep-empty-dirs --no-resave-data oligo StartedAt: 2021-10-14 07:52:21 -0400 (Thu, 14 Oct 2021) EndedAt: 2021-10-14 07:52:54 -0400 (Thu, 14 Oct 2021) EllapsedTime: 33.1 seconds RetCode: 0 Status: OK PackageFile: oligo_1.56.0.tar.gz PackageFileSize: 27.1 MiB