Package: oligo Version: 1.56.0 Command: /home/biocbuild/bbs-3.13-bioc/R/bin/R CMD INSTALL oligo StartedAt: 2021-10-14 06:12:55 -0400 (Thu, 14 Oct 2021) EndedAt: 2021-10-14 06:13:24 -0400 (Thu, 14 Oct 2021) EllapsedTime: 29.0 seconds RetCode: 0 Status: OK