Package: oligoClasses Version: 1.54.0 Command: rm -rf oligoClasses.buildbin-libdir && mkdir oligoClasses.buildbin-libdir && /Users/biocbuild/BBS/utils/build-universal.sh oligoClasses_1.54.0.tar.gz /Library/Frameworks/R.framework/Versions/Current/Resources/bin/R oligoClasses.buildbin-libdir StartedAt: 2021-10-15 03:20:08 -0400 (Fri, 15 Oct 2021) EndedAt: 2021-10-15 03:21:14 -0400 (Fri, 15 Oct 2021) EllapsedTime: 66.2 seconds RetCode: 0 Status: OK PackageFile: oligoClasses_1.54.0.tgz PackageFileSize: 1.397 MiB