Package: oligoClasses Version: 1.54.0 Command: /home/biocbuild/bbs-3.13-bioc/R/bin/R CMD check --install=check:oligoClasses.install-out.txt --library=/home/biocbuild/bbs-3.13-bioc/R/library --no-vignettes --timings oligoClasses_1.54.0.tar.gz StartedAt: 2021-10-14 10:51:00 -0400 (Thu, 14 Oct 2021) EndedAt: 2021-10-14 10:54:04 -0400 (Thu, 14 Oct 2021) EllapsedTime: 183.4 seconds RetCode: 0 Status: WARNINGS CheckDir: oligoClasses.Rcheck Warnings: 2