Package: omicRexposome Version: 1.14.0 Command: /home/biocbuild/bbs-3.13-bioc/R/bin/R CMD INSTALL omicRexposome StartedAt: 2021-10-14 06:20:18 -0400 (Thu, 14 Oct 2021) EndedAt: 2021-10-14 06:20:56 -0400 (Thu, 14 Oct 2021) EllapsedTime: 38.2 seconds RetCode: 0 Status: OK