Package: omicade4 Version: 1.32.0 Command: chmod a+r omicade4 -R && C:\Users\biocbuild\bbs-3.13-bioc\R\bin\R.exe CMD build --keep-empty-dirs --no-resave-data omicade4 StartedAt: 2021-10-14 16:13:31 -0400 (Thu, 14 Oct 2021) EndedAt: 2021-10-14 16:14:52 -0400 (Thu, 14 Oct 2021) EllapsedTime: 81.1 seconds RetCode: 0 Status: OK PackageFile: omicade4_1.32.0.tar.gz PackageFileSize: 522.9 KiB