Package: omicade4 Version: 1.32.0 Command: C:\cygwin\bin\curl.exe -O http://155.52.207.165/BBS/3.13/bioc/src/contrib/omicade4_1.32.0.tar.gz && rm -rf omicade4.buildbin-libdir && mkdir omicade4.buildbin-libdir && C:\Users\biocbuild\bbs-3.13-bioc\R\bin\R.exe CMD INSTALL --merge-multiarch --build --library=omicade4.buildbin-libdir omicade4_1.32.0.tar.gz && C:\Users\biocbuild\bbs-3.13-bioc\R\bin\R.exe CMD INSTALL omicade4_1.32.0.zip && rm omicade4_1.32.0.tar.gz omicade4_1.32.0.zip StartedAt: 2021-10-14 08:49:42 -0400 (Thu, 14 Oct 2021) EndedAt: 2021-10-14 08:50:30 -0400 (Thu, 14 Oct 2021) EllapsedTime: 48.4 seconds RetCode: 0 Status: OK