Package: omicsPrint Version: 1.12.0 Command: /home/biocbuild/bbs-3.13-bioc/R/bin/R CMD check --install=check:omicsPrint.install-out.txt --library=/home/biocbuild/bbs-3.13-bioc/R/library --no-vignettes --timings omicsPrint_1.12.0.tar.gz StartedAt: 2021-10-14 10:51:48 -0400 (Thu, 14 Oct 2021) EndedAt: 2021-10-14 10:54:12 -0400 (Thu, 14 Oct 2021) EllapsedTime: 144.1 seconds RetCode: 0 Status: WARNINGS CheckDir: omicsPrint.Rcheck Warnings: 1