Package: oneSENSE Version: 1.14.0 Command: /home/biocbuild/bbs-3.13-bioc/R/bin/R CMD build --keep-empty-dirs --no-resave-data oneSENSE StartedAt: 2021-10-14 07:53:14 -0400 (Thu, 14 Oct 2021) EndedAt: 2021-10-14 07:53:26 -0400 (Thu, 14 Oct 2021) EllapsedTime: 12.3 seconds RetCode: 0 Status: OK PackageFile: oneSENSE_1.14.0.tar.gz PackageFileSize: 2.73 MiB