Package: ontoProc Version: 1.14.0 Command: /Library/Frameworks/R.framework/Versions/Current/Resources/bin/R CMD INSTALL ontoProc StartedAt: 2021-10-14 08:48:48 -0400 (Thu, 14 Oct 2021) EndedAt: 2021-10-14 08:49:44 -0400 (Thu, 14 Oct 2021) EllapsedTime: 56.9 seconds RetCode: 0 Status: OK