Package: ontoProc Version: 1.14.0 Command: rm -rf ontoProc.buildbin-libdir && mkdir ontoProc.buildbin-libdir && C:\Users\biocbuild\bbs-3.13-bioc\R\bin\R.exe CMD INSTALL --merge-multiarch --build --library=ontoProc.buildbin-libdir ontoProc_1.14.0.tar.gz StartedAt: 2021-10-15 10:47:55 -0400 (Fri, 15 Oct 2021) EndedAt: 2021-10-15 10:49:03 -0400 (Fri, 15 Oct 2021) EllapsedTime: 67.8 seconds RetCode: 0 Status: OK PackageFile: ontoProc_1.14.0.zip PackageFileSize: 39.96 MiB