Package: ontoProc Version: 1.14.0 Command: chmod a+r ontoProc -R && C:\Users\biocbuild\bbs-3.13-bioc\R\bin\R.exe CMD build --keep-empty-dirs --no-resave-data ontoProc StartedAt: 2021-10-14 16:16:13 -0400 (Thu, 14 Oct 2021) EndedAt: 2021-10-14 16:18:05 -0400 (Thu, 14 Oct 2021) EllapsedTime: 111.8 seconds RetCode: 0 Status: OK PackageFile: ontoProc_1.14.0.tar.gz PackageFileSize: 41.84 MiB