git_url: https://git.bioconductor.org/packages/openPrimeRui git_branch: RELEASE_3_13 git_last_commit: 3c0ba8d git_last_commit_date: 2021-05-19 12:30:23 -0400 (Wed, 19 May 2021) Package: openPrimeRui Version: 1.14.0 Maintainer: Matthias Döring MaintainerEmail: matthias-doering at gmx.de