Package: oposSOM Version: 2.10.0 Command: /home/biocbuild/bbs-3.13-bioc/R/bin/R CMD build --keep-empty-dirs --no-resave-data oposSOM StartedAt: 2021-10-14 07:53:46 -0400 (Thu, 14 Oct 2021) EndedAt: 2021-10-14 07:54:36 -0400 (Thu, 14 Oct 2021) EllapsedTime: 50.0 seconds RetCode: 0 Status: OK PackageFile: oposSOM_2.10.0.tar.gz PackageFileSize: 13.08 MiB