Package: oposSOM Version: 2.10.0 Command: /home/biocbuild/bbs-3.13-bioc/R/bin/R CMD check --install=check:oposSOM.install-out.txt --library=/home/biocbuild/bbs-3.13-bioc/R/library --no-vignettes --timings oposSOM_2.10.0.tar.gz StartedAt: 2021-10-14 10:53:06 -0400 (Thu, 14 Oct 2021) EndedAt: 2021-10-14 10:58:59 -0400 (Thu, 14 Oct 2021) EllapsedTime: 353.1 seconds RetCode: 0 Status: WARNINGS CheckDir: oposSOM.Rcheck Warnings: 3