git_url: https://git.bioconductor.org/packages/oppar git_branch: RELEASE_3_13 git_last_commit: 152bfed git_last_commit_date: 2021-05-19 12:19:48 -0400 (Wed, 19 May 2021) Package: oppar Version: 1.20.0 Maintainer: Soroor Hediyeh zadeh MaintainerEmail: hediyehzadeh.s at wehi.edu.au