Package: oppar Version: 1.20.0 Command: rm -rf oppar.buildbin-libdir && mkdir oppar.buildbin-libdir && /Users/biocbuild/BBS/utils/build-universal.sh oppar_1.20.0.tar.gz /Library/Frameworks/R.framework/Versions/Current/Resources/bin/R oppar.buildbin-libdir StartedAt: 2021-10-15 03:22:18 -0400 (Fri, 15 Oct 2021) EndedAt: 2021-10-15 03:23:09 -0400 (Fri, 15 Oct 2021) EllapsedTime: 50.3 seconds RetCode: 0 Status: OK PackageFile: oppar_1.20.0.tgz PackageFileSize: 5.303 MiB