Package: oppar Version: 1.20.0 Command: /Library/Frameworks/R.framework/Versions/Current/Resources/bin/R CMD check --install=check:oppar.install-out.txt --library=/Library/Frameworks/R.framework/Versions/Current/Resources/library --no-vignettes --timings oppar_1.20.0.tar.gz StartedAt: 2021-10-14 21:57:50 -0400 (Thu, 14 Oct 2021) EndedAt: 2021-10-14 22:03:53 -0400 (Thu, 14 Oct 2021) EllapsedTime: 362.6 seconds RetCode: 0 Status: WARNINGS CheckDir: oppar.Rcheck Warnings: 1