Package: optimalFlow Version: 1.4.0 Command: /Library/Frameworks/R.framework/Versions/Current/Resources/bin/R CMD build --keep-empty-dirs --no-resave-data optimalFlow StartedAt: 2021-10-14 13:40:38 -0400 (Thu, 14 Oct 2021) EndedAt: 2021-10-14 13:49:17 -0400 (Thu, 14 Oct 2021) EllapsedTime: 519.8 seconds RetCode: 0 Status: OK PackageFile: optimalFlow_1.4.0.tar.gz PackageFileSize: 1.23 MiB