Package: packFinder Version: 1.4.0 Command: /Library/Frameworks/R.framework/Versions/Current/Resources/bin/R CMD build --keep-empty-dirs --no-resave-data packFinder StartedAt: 2021-10-14 13:43:20 -0400 (Thu, 14 Oct 2021) EndedAt: 2021-10-14 13:43:49 -0400 (Thu, 14 Oct 2021) EllapsedTime: 29.1 seconds RetCode: 0 Status: OK PackageFile: packFinder_1.4.0.tar.gz PackageFileSize: 1.128 MiB