Package: padma Version: 1.2.0 Command: /home/biocbuild/bbs-3.13-bioc/R/bin/R CMD build --keep-empty-dirs --no-resave-data padma StartedAt: 2021-10-14 07:54:47 -0400 (Thu, 14 Oct 2021) EndedAt: 2021-10-14 07:56:12 -0400 (Thu, 14 Oct 2021) EllapsedTime: 84.7 seconds RetCode: 0 Status: OK PackageFile: padma_1.2.0.tar.gz PackageFileSize: 1.095 MiB