Package: padma Version: 1.2.0 Command: /home/biocbuild/bbs-3.13-bioc/R/bin/R CMD check --install=check:padma.install-out.txt --library=/home/biocbuild/bbs-3.13-bioc/R/library --no-vignettes --timings padma_1.2.0.tar.gz StartedAt: 2021-10-14 10:54:59 -0400 (Thu, 14 Oct 2021) EndedAt: 2021-10-14 10:59:37 -0400 (Thu, 14 Oct 2021) EllapsedTime: 278.0 seconds RetCode: 0 Status: OK CheckDir: padma.Rcheck Warnings: 0